BEGIN:VCALENDAR
VERSION:2.0
PRODID:-//Sidedoor Magazine - ECPv6.15.20//NONSGML v1.0//EN
CALSCALE:GREGORIAN
METHOD:PUBLISH
X-WR-CALNAME:Sidedoor Magazine
X-ORIGINAL-URL:https://sidedoormag.com
X-WR-CALDESC:Events for Sidedoor Magazine
REFRESH-INTERVAL;VALUE=DURATION:PT1H
X-Robots-Tag:noindex
X-PUBLISHED-TTL:PT1H
BEGIN:VTIMEZONE
TZID:America/Toronto
BEGIN:DAYLIGHT
TZOFFSETFROM:-0500
TZOFFSETTO:-0400
TZNAME:EDT
DTSTART:20220313T070000
END:DAYLIGHT
BEGIN:STANDARD
TZOFFSETFROM:-0400
TZOFFSETTO:-0500
TZNAME:EST
DTSTART:20221106T060000
END:STANDARD
BEGIN:DAYLIGHT
TZOFFSETFROM:-0500
TZOFFSETTO:-0400
TZNAME:EDT
DTSTART:20230312T070000
END:DAYLIGHT
BEGIN:STANDARD
TZOFFSETFROM:-0400
TZOFFSETTO:-0500
TZNAME:EST
DTSTART:20231105T060000
END:STANDARD
BEGIN:DAYLIGHT
TZOFFSETFROM:-0500
TZOFFSETTO:-0400
TZNAME:EDT
DTSTART:20240310T070000
END:DAYLIGHT
BEGIN:STANDARD
TZOFFSETFROM:-0400
TZOFFSETTO:-0500
TZNAME:EST
DTSTART:20241103T060000
END:STANDARD
END:VTIMEZONE
BEGIN:VTIMEZONE
TZID:UTC
BEGIN:STANDARD
TZOFFSETFROM:+0000
TZOFFSETTO:+0000
TZNAME:UTC
DTSTART:20220101T000000
END:STANDARD
END:VTIMEZONE
BEGIN:VEVENT
DTSTART;TZID=America/Toronto:20230830T200000
DTEND;TZID=America/Toronto:20230830T223000
DTSTAMP:20260421T113933
CREATED:20230807T123141Z
LAST-MODIFIED:20230807T123141Z
UID:3855-1693425600-1693434600@sidedoormag.com
SUMMARY:Arctic Monkeys @ Budweiser Stage
DESCRIPTION:
URL:https://sidedoormag.com/event/arctic-monkeys-budweiser-stage/
LOCATION:Budweiser Stage\, Toronto\, Canada
ATTACH;FMTTYPE=image/jpeg:https://sidedoormag.com/wp-content/uploads/2023/08/39a92fd1-cff7-4815-9e38-47ad38dde20c_1817101_TABLET_LANDSCAPE_LARGE_16_9.jpg
END:VEVENT
BEGIN:VEVENT
DTSTART;TZID=UTC:20230908T193000
DTEND;TZID=UTC:20230908T193000
DTSTAMP:20260421T113933
CREATED:20230807T123527Z
LAST-MODIFIED:20230807T123527Z
UID:3858-1694201400-1694201400@sidedoormag.com
SUMMARY:Trippie Red @ Budweiser Stage
DESCRIPTION:
URL:https://sidedoormag.com/event/trippie-red-budweiser-stage/
LOCATION:Budweiser Stage\, Toronto\, Canada
ATTACH;FMTTYPE=image/jpeg:https://sidedoormag.com/wp-content/uploads/2023/08/9c603574-b12b-4d95-8242-481a26d58499_CUSTOM.jpg
END:VEVENT
BEGIN:VEVENT
DTSTART;TZID=UTC:20230911T190000
DTEND;TZID=UTC:20230911T220000
DTSTAMP:20260421T113933
CREATED:20230807T123959Z
LAST-MODIFIED:20230807T123959Z
UID:3861-1694458800-1694469600@sidedoormag.com
SUMMARY:Tate McRae @ History
DESCRIPTION:
URL:https://sidedoormag.com/event/tate-mcrae-history/
LOCATION:History\, Toronto\, Canada
ATTACH;FMTTYPE=image/jpeg:https://sidedoormag.com/wp-content/uploads/2023/08/39c68c3f-8f98-4edc-9e2a-e0a45cb8522b_RETINA_PORTRAIT_16_9.jpg
END:VEVENT
BEGIN:VEVENT
DTSTART;TZID=UTC:20230921T190000
DTEND;TZID=UTC:20230921T213000
DTSTAMP:20260421T113933
CREATED:20230807T124501Z
LAST-MODIFIED:20230807T124501Z
UID:3864-1695322800-1695331800@sidedoormag.com
SUMMARY:Yung Bleu @ The Opera House
DESCRIPTION:
URL:https://sidedoormag.com/event/yung-bleu-the-opera-house/
LOCATION:The Opera House\, Toronto\, Ontario\, Canada
ATTACH;FMTTYPE=image/jpeg:https://sidedoormag.com/wp-content/uploads/2023/08/Yung-Bleu-scaled-1.jpg
END:VEVENT
BEGIN:VEVENT
DTSTART;TZID=UTC:20231001T200000
DTEND;TZID=UTC:20231001T223000
DTSTAMP:20260421T113933
CREATED:20230807T124834Z
LAST-MODIFIED:20230807T124834Z
UID:3868-1696190400-1696199400@sidedoormag.com
SUMMARY:Wu-Tang Clan & Nas @ Scotiabank Arena
DESCRIPTION:
URL:https://sidedoormag.com/event/wu-tang-clan-nas-scotiabank-arena/
LOCATION:Scotiabank Arena\, Toronto\, Canada
ATTACH;FMTTYPE=image/webp:https://sidedoormag.com/wp-content/uploads/2023/08/d593d198-89be-4817-95f8-9fe34b3ba83a_1667291_RETINA_PORTRAIT_16_9.jpg.webp
END:VEVENT
BEGIN:VEVENT
DTSTART;TZID=UTC:20231002T190000
DTEND;TZID=UTC:20231002T220000
DTSTAMP:20260421T113933
CREATED:20230807T125138Z
LAST-MODIFIED:20230807T125900Z
UID:3871-1696273200-1696284000@sidedoormag.com
SUMMARY:Lil Yachty @ History
DESCRIPTION:
URL:https://sidedoormag.com/event/lil-yachty-history/
LOCATION:History\, Toronto\, Canada
ATTACH;FMTTYPE=image/webp:https://sidedoormag.com/wp-content/uploads/2023/08/287393e2-2824-44bf-9414-0bcd1a858d6e_lilyachtyHEADER.jpeg.webp
END:VEVENT
BEGIN:VEVENT
DTSTART;TZID=UTC:20231004T200000
DTEND;TZID=UTC:20231004T223000
DTSTAMP:20260421T113933
CREATED:20230807T125443Z
LAST-MODIFIED:20230807T125443Z
UID:3874-1696449600-1696458600@sidedoormag.com
SUMMARY:SZA @ Scotiabank Arena
DESCRIPTION:
URL:https://sidedoormag.com/event/sza-scotiabank-arena-2/
LOCATION:Scotiabank Arena\, Toronto\, Canada
ATTACH;FMTTYPE=image/png:https://sidedoormag.com/wp-content/uploads/2023/08/sza-sos-album-tour.jpeg.png
END:VEVENT
BEGIN:VEVENT
DTSTART;TZID=UTC:20231007T200000
DTEND;TZID=UTC:20231007T223000
DTSTAMP:20260421T113933
CREATED:20230807T125804Z
LAST-MODIFIED:20230807T125804Z
UID:3877-1696708800-1696717800@sidedoormag.com
SUMMARY:Drake @ Scotiabank Arena
DESCRIPTION:
URL:https://sidedoormag.com/event/drake-scotiabank-arena/
LOCATION:Scotiabank Arena\, Toronto\, Canada
ATTACH;FMTTYPE=image/jpeg:https://sidedoormag.com/wp-content/uploads/2023/08/63a058bc-ca40-4c71-a691-0d472fa28700_RETINA_PORTRAIT_3_2.jpg
END:VEVENT
BEGIN:VEVENT
DTSTART;TZID=UTC:20231109T193000
DTEND;TZID=UTC:20231109T223000
DTSTAMP:20260421T113933
CREATED:20230807T130533Z
LAST-MODIFIED:20230807T130533Z
UID:3880-1699558200-1699569000@sidedoormag.com
SUMMARY:WizKid @ Scotiabank Arena
DESCRIPTION:
URL:https://sidedoormag.com/event/wizkid-scotiabank-arena-2/
LOCATION:Scotiabank Arena\, Toronto\, Canada
ATTACH;FMTTYPE=image/jpeg:https://sidedoormag.com/wp-content/uploads/2023/08/cb9a4ed5-6e89-4281-9c55-48d90ccf91fd_SOURCE.jpeg
END:VEVENT
BEGIN:VEVENT
DTSTART;TZID=America/Toronto:20231113T190000
DTEND;TZID=America/Toronto:20231113T220000
DTSTAMP:20260421T113933
CREATED:20230807T130729Z
LAST-MODIFIED:20230807T130729Z
UID:3883-1699902000-1699912800@sidedoormag.com
SUMMARY:6LACK @ History
DESCRIPTION:
URL:https://sidedoormag.com/event/6lack-history/
LOCATION:History\, Toronto\, Canada
ATTACH;FMTTYPE=image/webp:https://sidedoormag.com/wp-content/uploads/2023/08/6LACK23_website2.jpg.webp
END:VEVENT
BEGIN:VEVENT
DTSTART;TZID=America/Toronto:20231124T200000
DTEND;TZID=America/Toronto:20231124T230000
DTSTAMP:20260421T113933
CREATED:20230807T130932Z
LAST-MODIFIED:20230807T130932Z
UID:3886-1700856000-1700866800@sidedoormag.com
SUMMARY:Lil Tjay @ Coca-Cola Coliseum
DESCRIPTION:
URL:https://sidedoormag.com/event/lil-tjay-coca-cola-coliseum/
LOCATION:Coca-Cola Colesium\, Toronto\, Ontario
ATTACH;FMTTYPE=image/jpeg:https://sidedoormag.com/wp-content/uploads/2023/08/7b34dd00-eeff-4378-8a41-d7489f33d853_CUSTOM.jpg
END:VEVENT
BEGIN:VEVENT
DTSTART;TZID=America/Toronto:20231125T200000
DTEND;TZID=America/Toronto:20231125T223000
DTSTAMP:20260421T113933
CREATED:20230807T131150Z
LAST-MODIFIED:20230807T131150Z
UID:3889-1700942400-1700951400@sidedoormag.com
SUMMARY:Romeo Santos @ Scotiabank Arena
DESCRIPTION:
URL:https://sidedoormag.com/event/romeo-santos-scotiabank-arena/
LOCATION:Scotiabank Arena\, Toronto\, Canada
ATTACH;FMTTYPE=image/jpeg:https://sidedoormag.com/wp-content/uploads/2023/08/85482c1a-df11-463d-88f5-56303b1ed257_SOURCE.jpeg
END:VEVENT
BEGIN:VEVENT
DTSTART;TZID=America/Toronto:20231211T193000
DTEND;TZID=America/Toronto:20231211T223000
DTSTAMP:20260421T113933
CREATED:20230807T131521Z
LAST-MODIFIED:20230807T131712Z
UID:3892-1702323000-1702333800@sidedoormag.com
SUMMARY:Doja Cat & Ice Spice @ Scotiabank Arena
DESCRIPTION:
URL:https://sidedoormag.com/event/doja-cat-ice-spice-scotiabank-arena/
LOCATION:Scotiabank Arena\, Toronto\, Canada
ATTACH;FMTTYPE=image/webp:https://sidedoormag.com/wp-content/uploads/2023/08/57be37b3c3f7859f07ef47a5b2890136.webp
END:VEVENT
BEGIN:VEVENT
DTSTART;TZID=UTC:20240402T190000
DTEND;TZID=UTC:20240402T220000
DTSTAMP:20260421T113933
CREATED:20240402T001759Z
LAST-MODIFIED:20240402T001855Z
UID:4228-1712084400-1712095200@sidedoormag.com
SUMMARY:Mariah the Scientist @ Danforth Music Hall
DESCRIPTION:
URL:https://sidedoormag.com/event/mariah-the-scientist-danforth-music-hall/
LOCATION:Danforth Music Hall\, Toronto\, Canada
ATTACH;FMTTYPE=image/jpeg:https://sidedoormag.com/wp-content/uploads/2024/04/1b1aa2be-240d-4dd7-81da-d5fc0ac8b793_RETINA_PORTRAIT_3_2.jpg
END:VEVENT
BEGIN:VEVENT
DTSTART;TZID=UTC:20240404T200000
DTEND;TZID=UTC:20240404T220000
DTSTAMP:20260421T113933
CREATED:20240402T002320Z
LAST-MODIFIED:20240402T002320Z
UID:4231-1712260800-1712268000@sidedoormag.com
SUMMARY:Bad Bunny @ Scotiabank Arena
DESCRIPTION:
URL:https://sidedoormag.com/event/bad-bunny-scotiabank-arena/
LOCATION:Scotiabank Arena\, Toronto\, Canada
ATTACH;FMTTYPE=image/jpeg:https://sidedoormag.com/wp-content/uploads/2024/04/bad-bunny-tampa-2023-65316319364c4.jpg
END:VEVENT
BEGIN:VEVENT
DTSTART;TZID=UTC:20240404T200000
DTEND;TZID=UTC:20240404T220000
DTSTAMP:20260421T113933
CREATED:20240402T002627Z
LAST-MODIFIED:20240402T002627Z
UID:4233-1712260800-1712268000@sidedoormag.com
SUMMARY:Lil Xan @ The Axis Club
DESCRIPTION:
URL:https://sidedoormag.com/event/lil-xan-the-axis-club/
LOCATION:The Axis Club\, Toronto\, Ontario\, Canada
ATTACH;FMTTYPE=image/jpeg:https://sidedoormag.com/wp-content/uploads/2024/04/20180708-011039-147518.jpg
END:VEVENT
BEGIN:VEVENT
DTSTART;TZID=UTC:20240405T190000
DTEND;TZID=UTC:20240405T210000
DTSTAMP:20260421T113933
CREATED:20240402T002947Z
LAST-MODIFIED:20240402T002947Z
UID:4235-1712343600-1712350800@sidedoormag.com
SUMMARY:Jon Vinyl @ The Opera House
DESCRIPTION:
URL:https://sidedoormag.com/event/jon-vinyl-the-opera-house/
LOCATION:The Opera House\, Toronto\, Ontario\, Canada
ATTACH;FMTTYPE=image/jpeg:https://sidedoormag.com/wp-content/uploads/2024/04/c0865efd-8502-4144-ae59-c8372b979c75_RETINA_PORTRAIT_3_2.jpg
END:VEVENT
BEGIN:VEVENT
DTSTART;TZID=UTC:20240406T210000
DTEND;TZID=UTC:20240406T233000
DTSTAMP:20260421T113933
CREATED:20240402T003208Z
LAST-MODIFIED:20240402T003208Z
UID:4237-1712437200-1712446200@sidedoormag.com
SUMMARY:Mas Tiempo @ Rebel
DESCRIPTION:
URL:https://sidedoormag.com/event/mas-tiempo-rebel/
LOCATION:Rebel\, Toronto\, Canada
ATTACH;FMTTYPE=image/jpeg:https://sidedoormag.com/wp-content/uploads/2024/04/mas-tiempo.png.jpeg
END:VEVENT
BEGIN:VEVENT
DTSTART;TZID=UTC:20240407T190000
DTEND;TZID=UTC:20240407T213000
DTSTAMP:20260421T113933
CREATED:20240402T003451Z
LAST-MODIFIED:20240402T003514Z
UID:4239-1712516400-1712525400@sidedoormag.com
SUMMARY:PinkPantheress @ Danforth Music Hall
DESCRIPTION:
URL:https://sidedoormag.com/event/pinkpantheress-danforth-music-hall/
LOCATION:Danforth Music Hall\, Toronto\, Canada
ATTACH;FMTTYPE=image/jpeg:https://sidedoormag.com/wp-content/uploads/2024/04/88d106a7-4b3b-48cc-afd8-f9acf43f8d57_RETINA_PORTRAIT_3_2.jpg
END:VEVENT
BEGIN:VEVENT
DTSTART;TZID=UTC:20240408T190000
DTEND;TZID=UTC:20240408T220000
DTSTAMP:20260421T113933
CREATED:20240402T003802Z
LAST-MODIFIED:20240402T003802Z
UID:4241-1712602800-1712613600@sidedoormag.com
SUMMARY:Erick the Architect @ Velvet Underground
DESCRIPTION:
URL:https://sidedoormag.com/event/erick-the-architect-velvet-underground/
ATTACH;FMTTYPE=image/jpeg:https://sidedoormag.com/wp-content/uploads/2024/04/8a9fb7fd-ee7c-4038-94e8-423468eb25a4_RETINA_PORTRAIT_3_2.jpg
END:VEVENT
BEGIN:VEVENT
DTSTART;TZID=UTC:20240412T200000
DTEND;TZID=UTC:20240412T220000
DTSTAMP:20260421T113933
CREATED:20240402T004019Z
LAST-MODIFIED:20240402T004019Z
UID:4243-1712952000-1712959200@sidedoormag.com
SUMMARY:INNA @ Rebel
DESCRIPTION:
URL:https://sidedoormag.com/event/inna-rebel/
LOCATION:Rebel\, Toronto\, Canada
ATTACH;FMTTYPE=image/jpeg:https://sidedoormag.com/wp-content/uploads/2024/04/ae5abbfd-91b3-4eb8-b3fd-743a87c3e27a_687141_RETINA_PORTRAIT_3_2.jpg
END:VEVENT
BEGIN:VEVENT
DTSTART;TZID=UTC:20240413T220000
DTEND;TZID=UTC:20240413T233000
DTSTAMP:20260421T113933
CREATED:20240402T004248Z
LAST-MODIFIED:20240402T004248Z
UID:4245-1713045600-1713051000@sidedoormag.com
SUMMARY:DVBSS @ Rebel
DESCRIPTION:
URL:https://sidedoormag.com/event/dvbss-rebel/
LOCATION:Rebel\, Toronto\, Canada
ATTACH;FMTTYPE=image/jpeg:https://sidedoormag.com/wp-content/uploads/2024/04/36ce6b22-e193-4cc7-97f0-91bca58f47d6_201311_RETINA_PORTRAIT_3_2.jpg
END:VEVENT
BEGIN:VEVENT
DTSTART;TZID=UTC:20240418T190000
DTEND;TZID=UTC:20240418T230000
DTSTAMP:20260421T113933
CREATED:20240402T005550Z
LAST-MODIFIED:20240402T005550Z
UID:4252-1713466800-1713481200@sidedoormag.com
SUMMARY:First Class Fest @ Phoenix Concert Theatre
DESCRIPTION:
URL:https://sidedoormag.com/event/first-class-fest-phoenix-concert-theatre/
LOCATION:Phoenix Concert Theatre\, Toronto\, Canada
ATTACH;FMTTYPE=image/png:https://sidedoormag.com/wp-content/uploads/2024/04/Screen-Shot-2024-04-01-at-8.54.00-PM.png
END:VEVENT
BEGIN:VEVENT
DTSTART;TZID=UTC:20240418T203000
DTEND;TZID=UTC:20240418T233000
DTSTAMP:20260421T113933
CREATED:20240402T004729Z
LAST-MODIFIED:20240402T004729Z
UID:4247-1713472200-1713483000@sidedoormag.com
SUMMARY:Nicki Minaj @ Scotiabank Arena
DESCRIPTION:
URL:https://sidedoormag.com/event/nicki-minaj-scotiabank-arena/
LOCATION:Scotiabank Arena\, Toronto\, Canada
ATTACH;FMTTYPE=image/webp:https://sidedoormag.com/wp-content/uploads/2024/04/nicki-minaj.webp
END:VEVENT
BEGIN:VEVENT
DTSTART;TZID=UTC:20240420T190000
DTEND;TZID=UTC:20240420T213000
DTSTAMP:20260421T113933
CREATED:20240402T005200Z
LAST-MODIFIED:20240402T005200Z
UID:4249-1713639600-1713648600@sidedoormag.com
SUMMARY:Hardrock @ Velvet Underground
DESCRIPTION:
URL:https://sidedoormag.com/event/hardrock-velvet-underground/
LOCATION:Velvet Underground
ATTACH;FMTTYPE=image/jpeg:https://sidedoormag.com/wp-content/uploads/2024/04/b1017ecd-363a-4ad8-ba4f-a9552699b95b_RETINA_PORTRAIT_3_2.jpg
END:VEVENT
BEGIN:VEVENT
DTSTART;TZID=UTC:20240501T200000
DTEND;TZID=UTC:20240501T220000
DTSTAMP:20260421T113933
CREATED:20240415T150843Z
LAST-MODIFIED:20240415T150843Z
UID:4289-1714593600-1714600800@sidedoormag.com
SUMMARY:POUYA @ PHOENIX CONCERT THEATRE
DESCRIPTION:
URL:https://sidedoormag.com/event/pouya-phoenix-concert-theatre/
LOCATION:Phoenix Concert Theatre\, Toronto\, Ontario\, Canada
ATTACH;FMTTYPE=image/jpeg:https://sidedoormag.com/wp-content/uploads/2024/04/bf19fa14-97d7-4f4e-8797-e8da1614bb87_RETINA_PORTRAIT_3_2.jpg
END:VEVENT
BEGIN:VEVENT
DTSTART;TZID=UTC:20240503T200000
DTEND;TZID=UTC:20240503T220000
DTSTAMP:20260421T113933
CREATED:20240415T151158Z
LAST-MODIFIED:20240415T151158Z
UID:4292-1714766400-1714773600@sidedoormag.com
SUMMARY:GWEN STEFANI @ GREAT CANADIAN CASINO RESORT
DESCRIPTION:
URL:https://sidedoormag.com/event/gwen-stefani-great-canadian-casino-resort/
ATTACH;FMTTYPE=image/jpeg:https://sidedoormag.com/wp-content/uploads/2024/04/gwen-stefani-1669285783.1469307.430x241.jpg
END:VEVENT
BEGIN:VEVENT
DTSTART;TZID=UTC:20240504T200000
DTEND;TZID=UTC:20240504T223000
DTSTAMP:20260421T113933
CREATED:20240415T151546Z
LAST-MODIFIED:20240415T151546Z
UID:4294-1714852800-1714861800@sidedoormag.com
SUMMARY:GIGGS @ HISTORY
DESCRIPTION:
URL:https://sidedoormag.com/event/giggs-history/
LOCATION:History\, Toronto\, Canada
ATTACH;FMTTYPE=image/jpeg:https://sidedoormag.com/wp-content/uploads/2024/04/images-2.jpeg
END:VEVENT
BEGIN:VEVENT
DTSTART;TZID=UTC:20240505T190000
DTEND;TZID=UTC:20240505T220000
DTSTAMP:20260421T113933
CREATED:20240415T151923Z
LAST-MODIFIED:20240415T151923Z
UID:4296-1714935600-1714946400@sidedoormag.com
SUMMARY:FIVIO FOREIGN @ DANFORTH MUSIC HALL
DESCRIPTION:
URL:https://sidedoormag.com/event/fivio-foreign-danforth-music-hall/
LOCATION:Danforth Music Hall\, Toronto\, Canada
ATTACH;FMTTYPE=image/jpeg:https://sidedoormag.com/wp-content/uploads/2024/04/fivio-foreign-1480x832-1.jpg
END:VEVENT
BEGIN:VEVENT
DTSTART;TZID=UTC:20240507T190000
DTEND;TZID=UTC:20240507T213000
DTSTAMP:20260421T113933
CREATED:20240415T152519Z
LAST-MODIFIED:20240415T154705Z
UID:4298-1715108400-1715117400@sidedoormag.com
SUMMARY:TEEZO TOUCHDOWN @ PHOENIX CONCERT THEATRE
DESCRIPTION:
URL:https://sidedoormag.com/event/teezo-touchdown-phoenix-concert-theatre/
ATTACH;FMTTYPE=image/png:https://sidedoormag.com/wp-content/uploads/2024/04/Screen-Shot-2024-04-15-at-11.23.06-AM.png
END:VEVENT
END:VCALENDAR