BEGIN:VCALENDAR
VERSION:2.0
PRODID:-//Sidedoor Magazine - ECPv6.15.20//NONSGML v1.0//EN
CALSCALE:GREGORIAN
METHOD:PUBLISH
X-WR-CALNAME:Sidedoor Magazine
X-ORIGINAL-URL:https://sidedoormag.com
X-WR-CALDESC:Events for Sidedoor Magazine
REFRESH-INTERVAL;VALUE=DURATION:PT1H
X-Robots-Tag:noindex
X-PUBLISHED-TTL:PT1H
BEGIN:VTIMEZONE
TZID:UTC
BEGIN:STANDARD
TZOFFSETFROM:+0000
TZOFFSETTO:+0000
TZNAME:UTC
DTSTART:20210101T000000
END:STANDARD
END:VTIMEZONE
BEGIN:VTIMEZONE
TZID:America/Toronto
BEGIN:DAYLIGHT
TZOFFSETFROM:-0500
TZOFFSETTO:-0400
TZNAME:EDT
DTSTART:20210314T070000
END:DAYLIGHT
BEGIN:STANDARD
TZOFFSETFROM:-0400
TZOFFSETTO:-0500
TZNAME:EST
DTSTART:20211107T060000
END:STANDARD
BEGIN:DAYLIGHT
TZOFFSETFROM:-0500
TZOFFSETTO:-0400
TZNAME:EDT
DTSTART:20220313T070000
END:DAYLIGHT
BEGIN:STANDARD
TZOFFSETFROM:-0400
TZOFFSETTO:-0500
TZNAME:EST
DTSTART:20221106T060000
END:STANDARD
BEGIN:DAYLIGHT
TZOFFSETFROM:-0500
TZOFFSETTO:-0400
TZNAME:EDT
DTSTART:20230312T070000
END:DAYLIGHT
BEGIN:STANDARD
TZOFFSETFROM:-0400
TZOFFSETTO:-0500
TZNAME:EST
DTSTART:20231105T060000
END:STANDARD
END:VTIMEZONE
BEGIN:VEVENT
DTSTART;TZID=UTC:20230411T200000
DTEND;TZID=UTC:20230411T223000
DTSTAMP:20260420T043541
CREATED:20230106T202916Z
LAST-MODIFIED:20230106T202916Z
UID:2965-1681243200-1681252200@sidedoormag.com
SUMMARY:Nav @ Scotiabank Arena
DESCRIPTION:
URL:https://sidedoormag.com/event/nav-scotiabank-arena/
LOCATION:Scotiabank Arena\, Toronto\, Canada
ATTACH;FMTTYPE=image/jpeg:https://sidedoormag.com/wp-content/uploads/2023/01/2d0c5f56-3669-4ec7-8075-2e9b058e0ea4_SOURCE.jpeg
END:VEVENT
BEGIN:VEVENT
DTSTART;TZID=UTC:20230406T190000
DTEND;TZID=UTC:20230406T220000
DTSTAMP:20260420T043541
CREATED:20230106T202720Z
LAST-MODIFIED:20230106T202720Z
UID:2962-1680807600-1680818400@sidedoormag.com
SUMMARY:DVSN @ History
DESCRIPTION:
URL:https://sidedoormag.com/event/dvsn-history/
LOCATION:History\, Toronto\, Canada
ATTACH;FMTTYPE=image/jpeg:https://sidedoormag.com/wp-content/uploads/2023/01/d368e511-d8a4-439d-b479-29b12788bac5_1821531_TABLET_LANDSCAPE_LARGE_16_9.jpg
END:VEVENT
BEGIN:VEVENT
DTSTART;TZID=UTC:20230319T190000
DTEND;TZID=UTC:20230319T220000
DTSTAMP:20260420T043541
CREATED:20230106T202430Z
LAST-MODIFIED:20230315T231925Z
UID:2959-1679252400-1679263200@sidedoormag.com
SUMMARY:Wizkid @ Scotiabank Arena
DESCRIPTION:
URL:https://sidedoormag.com/event/wizkid-scotiabank-arena/
LOCATION:Scotiabank Arena\, Toronto\, Canada
ATTACH;FMTTYPE=image/jpeg:https://sidedoormag.com/wp-content/uploads/2023/01/cb9a4ed5-6e89-4281-9c55-48d90ccf91fd_SOURCE.jpeg
END:VEVENT
BEGIN:VEVENT
DTSTART;TZID=UTC:20230313T190000
DTEND;TZID=UTC:20230313T230000
DTSTAMP:20260420T043541
CREATED:20221129T230017Z
LAST-MODIFIED:20221129T230017Z
UID:2736-1678734000-1678748400@sidedoormag.com
SUMMARY:J.I.D & Smino @ History
DESCRIPTION:
URL:https://sidedoormag.com/event/j-i-d-smino-history/
LOCATION:History\, Toronto\, Canada
ATTACH;FMTTYPE=image/jpeg:https://sidedoormag.com/wp-content/uploads/2022/11/60c9929d-b2ce-4fee-b7cd-cd638ae9be66_1823711_RETINA_PORTRAIT_16_9.jpg
END:VEVENT
BEGIN:VEVENT
DTSTART;TZID=UTC:20230311T200000
DTEND;TZID=UTC:20230311T223000
DTSTAMP:20260420T043541
CREATED:20230106T202055Z
LAST-MODIFIED:20230106T202055Z
UID:2956-1678564800-1678573800@sidedoormag.com
SUMMARY:Druski @ Meridian Hall
DESCRIPTION:
URL:https://sidedoormag.com/event/druski-meridian-hall/
ATTACH;FMTTYPE=image/jpeg:https://sidedoormag.com/wp-content/uploads/2023/01/durski.jpeg
END:VEVENT
BEGIN:VEVENT
DTSTART;TZID=UTC:20230305T190000
DTEND;TZID=UTC:20230305T223000
DTSTAMP:20260420T043541
CREATED:20230106T201819Z
LAST-MODIFIED:20230107T171502Z
UID:2953-1678042800-1678055400@sidedoormag.com
SUMMARY:Yeat @ History
DESCRIPTION:
URL:https://sidedoormag.com/event/yeah-history/
LOCATION:History\, Toronto\, Canada
ATTACH;FMTTYPE=image/png:https://sidedoormag.com/wp-content/uploads/2023/01/yeatt.png
END:VEVENT
BEGIN:VEVENT
DTSTART;TZID=UTC:20230225T200000
DTEND;TZID=UTC:20230225T223000
DTSTAMP:20260420T043541
CREATED:20230106T201521Z
LAST-MODIFIED:20230106T201521Z
UID:2950-1677355200-1677364200@sidedoormag.com
SUMMARY:SZA @ Scotiabank Arena
DESCRIPTION:
URL:https://sidedoormag.com/event/sza-scotiabank-arena/
LOCATION:Scotiabank Arena\, Toronto\, Canada
ATTACH;FMTTYPE=image/jpeg:https://sidedoormag.com/wp-content/uploads/2023/01/szaa.jpeg
END:VEVENT
BEGIN:VEVENT
DTSTART;TZID=UTC:20230221T200000
DTEND;TZID=UTC:20230221T230000
DTSTAMP:20260420T043541
CREATED:20221129T225147Z
LAST-MODIFIED:20221129T225147Z
UID:2732-1677009600-1677020400@sidedoormag.com
SUMMARY:A Boogie Wit Da Hoodie @ The Coca-Cola Coliseum
DESCRIPTION:
URL:https://sidedoormag.com/event/a-boogie-wit-da-hoodie-the-coca-cola-coliseum/
LOCATION:Coca-Cola Colesium\, Toronto\, Ontario
ATTACH;FMTTYPE=image/jpeg:https://sidedoormag.com/wp-content/uploads/2022/11/a-boogie-wit-da-hoodie-me-vs-myself-tour-late-show-tickets_02-11-23_17_63767238c7a56-e1669762897228.jpg
END:VEVENT
BEGIN:VEVENT
DTSTART;TZID=UTC:20230218T190000
DTEND;TZID=UTC:20230218T223000
DTSTAMP:20260420T043541
CREATED:20230106T200616Z
LAST-MODIFIED:20230106T200616Z
UID:2947-1676746800-1676759400@sidedoormag.com
SUMMARY:YG @ History
DESCRIPTION:
URL:https://sidedoormag.com/event/yg-history/
LOCATION:History\, Toronto\, Canada
ATTACH;FMTTYPE=image/jpeg:https://sidedoormag.com/wp-content/uploads/2023/01/yg.jpeg
END:VEVENT
BEGIN:VEVENT
DTSTART;TZID=UTC:20230216T190000
DTEND;TZID=UTC:20230216T220000
DTSTAMP:20260420T043541
CREATED:20221129T224136Z
LAST-MODIFIED:20230107T171555Z
UID:2728-1676574000-1676584800@sidedoormag.com
SUMMARY:Central Cee @ The Phoenix Concert Theatre
DESCRIPTION:
URL:https://sidedoormag.com/event/central-cee-the-phoenix-concert-theatre/
LOCATION:Phoenix Concert Theatre\, Toronto\, Canada
ATTACH;FMTTYPE=image/jpeg:https://sidedoormag.com/wp-content/uploads/2022/11/central-cee-tickets_10-21-22_17_62e80b16d42eb.jpg
END:VEVENT
BEGIN:VEVENT
DTSTART;TZID=UTC:20221216T190000
DTEND;TZID=UTC:20221216T220000
DTSTAMP:20260420T043541
CREATED:20221129T223628Z
LAST-MODIFIED:20221129T223628Z
UID:2724-1671217200-1671228000@sidedoormag.com
SUMMARY:Nate Husser @ The Drake Underground
DESCRIPTION:
URL:https://sidedoormag.com/event/nate-husser-the-drake-underground/
LOCATION:The Drake Underground
ATTACH;FMTTYPE=image/jpeg:https://sidedoormag.com/wp-content/uploads/2022/11/NateH-profile-scaled-e1669762969430.jpg
END:VEVENT
BEGIN:VEVENT
DTSTART;TZID=UTC:20221214T190000
DTEND;TZID=UTC:20221214T220000
DTSTAMP:20260420T043541
CREATED:20221114T232708Z
LAST-MODIFIED:20221114T233148Z
UID:2183-1671044400-1671055200@sidedoormag.com
SUMMARY:Lil Tjay @ Rebel
DESCRIPTION:
URL:https://sidedoormag.com/event/lil-tjay-rebel/
LOCATION:Rebel\, Toronto\, Canada
ATTACH;FMTTYPE=image/jpeg:https://sidedoormag.com/wp-content/uploads/2022/11/tjay-e1668468417980.jpeg
END:VEVENT
BEGIN:VEVENT
DTSTART;TZID=UTC:20221207T200000
DTEND;TZID=UTC:20221207T220000
DTSTAMP:20260420T043541
CREATED:20221114T233109Z
LAST-MODIFIED:20221114T233109Z
UID:2186-1670443200-1670450400@sidedoormag.com
SUMMARY:Zach Zoya With NAIIM @ Drake Underground
DESCRIPTION:
URL:https://sidedoormag.com/event/zach-zoya-with-naiim-drake-underground/
LOCATION:The Drake Underground
ATTACH;FMTTYPE=image/jpeg:https://sidedoormag.com/wp-content/uploads/2022/11/zach_zoya-e1668468657106.jpeg
END:VEVENT
BEGIN:VEVENT
DTSTART;TZID=UTC:20221201T190000
DTEND;TZID=UTC:20221201T220000
DTSTAMP:20260420T043541
CREATED:20221114T233613Z
LAST-MODIFIED:20221114T233613Z
UID:2190-1669921200-1669932000@sidedoormag.com
SUMMARY:Yung Lean @ Rebel
DESCRIPTION:
URL:https://sidedoormag.com/event/yung-lean-rebel/
LOCATION:Rebel\, Toronto\, Canada
ATTACH;FMTTYPE=image/jpeg:https://sidedoormag.com/wp-content/uploads/2022/11/leann.jpeg
END:VEVENT
BEGIN:VEVENT
DTSTART;TZID=UTC:20221128T070000
DTEND;TZID=UTC:20221128T220000
DTSTAMP:20260420T043541
CREATED:20221114T232441Z
LAST-MODIFIED:20221114T233220Z
UID:2180-1669618800-1669672800@sidedoormag.com
SUMMARY:Jessie Reyez @ History
DESCRIPTION:
URL:https://sidedoormag.com/event/jessie-reyez-history/
LOCATION:History\, Toronto\, Canada
ATTACH;FMTTYPE=image/jpeg:https://sidedoormag.com/wp-content/uploads/2022/11/jessie--e1668468271921.jpeg
END:VEVENT
BEGIN:VEVENT
DTSTART;TZID=UTC:20221125T200000
DTEND;TZID=UTC:20221125T230000
DTSTAMP:20260420T043541
CREATED:20221114T232124Z
LAST-MODIFIED:20221114T232124Z
UID:2177-1669406400-1669417200@sidedoormag.com
SUMMARY:Alie Gaite @ History
DESCRIPTION:
URL:https://sidedoormag.com/event/alie-gaite-history/
LOCATION:History\, Toronto\, Canada
ATTACH;FMTTYPE=image/jpeg:https://sidedoormag.com/wp-content/uploads/2022/11/ali-g.jpeg
END:VEVENT
BEGIN:VEVENT
DTSTART;TZID=UTC:20221123T190000
DTEND;TZID=UTC:20221123T220000
DTSTAMP:20260420T043541
CREATED:20221114T231140Z
LAST-MODIFIED:20221114T231140Z
UID:2173-1669230000-1669240800@sidedoormag.com
SUMMARY:Yung Gravy & bbno$ @ History
DESCRIPTION:
URL:https://sidedoormag.com/event/yung-gravy-bbno-history/
LOCATION:History\, Toronto\, Canada
ATTACH;FMTTYPE=image/jpeg:https://sidedoormag.com/wp-content/uploads/2022/11/Yung-Gravy-bbno.jpeg
END:VEVENT
BEGIN:VEVENT
DTSTART;TZID=UTC:20221120T200000
DTEND;TZID=UTC:20221120T230000
DTSTAMP:20260420T043541
CREATED:20221114T230744Z
LAST-MODIFIED:20221114T230744Z
UID:2170-1668974400-1668985200@sidedoormag.com
SUMMARY:LUCKI @ REBEL
DESCRIPTION:
URL:https://sidedoormag.com/event/lucki-rebel/
LOCATION:Rebel\, Toronto\, Canada
ATTACH;FMTTYPE=image/jpeg:https://sidedoormag.com/wp-content/uploads/2022/11/lucki-e1668468134523.jpeg
END:VEVENT
BEGIN:VEVENT
DTSTART;TZID=UTC:20221112T203000
DTEND;TZID=UTC:20221113T203000
DTSTAMP:20260420T043541
CREATED:20220904T174429Z
LAST-MODIFIED:20221112T193726Z
UID:1763-1668285000-1668371400@sidedoormag.com
SUMMARY:Rosalía: MOTOMAMI WORLD TOUR
DESCRIPTION:
URL:https://sidedoormag.com/event/rosalia-motomami-world-tour/
LOCATION:Budweiser Stage\, Toronto\, Canada
ATTACH;FMTTYPE=image/jpeg:https://sidedoormag.com/wp-content/uploads/2022/08/rosalia_2022_1280x1707_1649955231.jpg
END:VEVENT
BEGIN:VEVENT
DTSTART;TZID=UTC:20220922T183000
DTEND;TZID=UTC:20220922T230000
DTSTAMP:20260420T043541
CREATED:20220804T174850Z
LAST-MODIFIED:20220804T174850Z
UID:1766-1663871400-1663887600@sidedoormag.com
SUMMARY:The Weeknd - After Hours Til Dawn Tour
DESCRIPTION:
URL:https://sidedoormag.com/event/the-weeknd-after-hours-til-dawn-tour/
LOCATION:Rogers Centre\, Toronto\, Canada
ATTACH;FMTTYPE=image/jpeg:https://sidedoormag.com/wp-content/uploads/2022/08/weekend-new-date.jpg
END:VEVENT
BEGIN:VEVENT
DTSTART;TZID=UTC:20220920T200000
DTEND;TZID=UTC:20220920T223000
DTSTAMP:20260420T043541
CREATED:20220804T173851Z
LAST-MODIFIED:20220804T173851Z
UID:1756-1663704000-1663713000@sidedoormag.com
SUMMARY:Post Malone - Twelve Carat Tour
DESCRIPTION:
URL:https://sidedoormag.com/event/post-malone-twelve-carat-tour/
LOCATION:Scotiabank Arena\, Toronto\, Canada
ATTACH;FMTTYPE=image/jpeg:https://sidedoormag.com/wp-content/uploads/2022/08/poss.jpg
END:VEVENT
BEGIN:VEVENT
DTSTART;TZID=UTC:20220911T190000
DTEND;TZID=UTC:20220911T220000
DTSTAMP:20260420T043541
CREATED:20220804T173632Z
LAST-MODIFIED:20220804T173632Z
UID:1753-1662922800-1662933600@sidedoormag.com
SUMMARY:Daddy Yankee - La Ultima Vuelta World Tour
DESCRIPTION:
URL:https://sidedoormag.com/event/daddy-yankee-la-ultima-vuelta-world-tour/
LOCATION:Scotiabank Arena\, Toronto\, Canada
ATTACH;FMTTYPE=image/jpeg:https://sidedoormag.com/wp-content/uploads/2022/08/Event-listing-640x360-b23e09c9a4.jpg
END:VEVENT
BEGIN:VEVENT
DTSTART;TZID=UTC:20220909T150000
DTEND;TZID=UTC:20220911T233000
DTSTAMP:20260420T043541
CREATED:20220804T175331Z
LAST-MODIFIED:20220804T175331Z
UID:1770-1662735600-1662939000@sidedoormag.com
SUMMARY:Rolling Loud
DESCRIPTION:
URL:https://sidedoormag.com/event/rolling-loud/
LOCATION:Ontario Place\, Toronto\, Ontario\, Canada
ATTACH;FMTTYPE=image/jpeg:https://sidedoormag.com/wp-content/uploads/2022/08/rollin.jpg
END:VEVENT
BEGIN:VEVENT
DTSTART;TZID=UTC:20220908T190000
DTEND;TZID=UTC:20220908T223000
DTSTAMP:20260420T043541
CREATED:20220804T174213Z
LAST-MODIFIED:20220804T174213Z
UID:1759-1662663600-1662676200@sidedoormag.com
SUMMARY:Denzel Curry - Melt My Eyez Tour
DESCRIPTION:
URL:https://sidedoormag.com/event/denzel-curry-melt-my-eyez-tour/
LOCATION:Rebel\, Toronto\, Canada
ATTACH;FMTTYPE=image/png:https://sidedoormag.com/wp-content/uploads/2022/08/denz.png
END:VEVENT
BEGIN:VEVENT
DTSTART;TZID=UTC:20220904T200000
DTEND;TZID=UTC:20220904T230000
DTSTAMP:20260420T043541
CREATED:20220804T173246Z
LAST-MODIFIED:20220804T173246Z
UID:1750-1662321600-1662332400@sidedoormag.com
SUMMARY:Wu-Tang Clan & Nas - NY State Of Mind Tour
DESCRIPTION:
URL:https://sidedoormag.com/event/wu-tang-clan-nas-ny-state-of-mind-tour/
LOCATION:Budweiser Stage\, Toronto\, Canada
ATTACH;FMTTYPE=image/jpeg:https://sidedoormag.com/wp-content/uploads/2022/08/nass.jpg
END:VEVENT
BEGIN:VEVENT
DTSTART;TZID=UTC:20220824T190000
DTEND;TZID=UTC:20220824T220000
DTSTAMP:20260420T043541
CREATED:20220804T172904Z
LAST-MODIFIED:20220804T172904Z
UID:1747-1661367600-1661378400@sidedoormag.com
SUMMARY:Khelani - Blue Water Road Trip
DESCRIPTION:
URL:https://sidedoormag.com/event/khelani-blue-water-road-trip/
LOCATION:Budweiser Stage\, Toronto\, Canada
ATTACH;FMTTYPE=image/jpeg:https://sidedoormag.com/wp-content/uploads/2022/08/kk.jpg
END:VEVENT
BEGIN:VEVENT
DTSTART;TZID=America/Toronto:20220812T193000
DTEND;TZID=America/Toronto:20220812T230000
DTSTAMP:20260420T043541
CREATED:20220804T172318Z
LAST-MODIFIED:20220804T172318Z
UID:1743-1660332600-1660345200@sidedoormag.com
SUMMARY:Kendrick Lamar & Baby Keem - The Big Steppers Tour
DESCRIPTION:
URL:https://sidedoormag.com/event/kendrick-lamar-baby-keem-the-big-steppers-tour/
LOCATION:Scotiabank Arena\, Toronto\, Canada
ATTACH;FMTTYPE=image/jpeg:https://sidedoormag.com/wp-content/uploads/2022/08/kendrick.jpg
END:VEVENT
END:VCALENDAR