BEGIN:VCALENDAR
VERSION:2.0
PRODID:-//Sidedoor Magazine - ECPv6.15.20//NONSGML v1.0//EN
CALSCALE:GREGORIAN
METHOD:PUBLISH
X-ORIGINAL-URL:https://sidedoormag.com
X-WR-CALDESC:Events for Sidedoor Magazine
REFRESH-INTERVAL;VALUE=DURATION:PT1H
X-Robots-Tag:noindex
X-PUBLISHED-TTL:PT1H
BEGIN:VTIMEZONE
TZID:UTC
BEGIN:STANDARD
TZOFFSETFROM:+0000
TZOFFSETTO:+0000
TZNAME:UTC
DTSTART:20210101T000000
END:STANDARD
END:VTIMEZONE
BEGIN:VEVENT
DTSTART;TZID=UTC:20220909T150000
DTEND;TZID=UTC:20220911T233000
DTSTAMP:20260419T194144
CREATED:20220804T175331Z
LAST-MODIFIED:20220804T175331Z
UID:1770-1662735600-1662939000@sidedoormag.com
SUMMARY:Rolling Loud
DESCRIPTION:
URL:https://sidedoormag.com/event/rolling-loud/
LOCATION:Ontario Place\, Toronto\, Ontario\, Canada
ATTACH;FMTTYPE=image/jpeg:https://sidedoormag.com/wp-content/uploads/2022/08/rollin.jpg
END:VEVENT
BEGIN:VEVENT
DTSTART;TZID=UTC:20220911T190000
DTEND;TZID=UTC:20220911T220000
DTSTAMP:20260419T194144
CREATED:20220804T173632Z
LAST-MODIFIED:20220804T173632Z
UID:1753-1662922800-1662933600@sidedoormag.com
SUMMARY:Daddy Yankee - La Ultima Vuelta World Tour
DESCRIPTION:
URL:https://sidedoormag.com/event/daddy-yankee-la-ultima-vuelta-world-tour/
LOCATION:Scotiabank Arena\, Toronto\, Canada
ATTACH;FMTTYPE=image/jpeg:https://sidedoormag.com/wp-content/uploads/2022/08/Event-listing-640x360-b23e09c9a4.jpg
END:VEVENT
END:VCALENDAR